BEGIN:VCALENDAR
VERSION:2.0
PRODID:-//eventon.com NONSGML v1.0//EN
BEGIN:VEVENT
UID:69e89f559d920
DTSTAMP:20260422T131341
DTSTART:20200613T000000Z
DTEND:20200614T235900Z
LOCATION:Київський міський клінічний госпіталь ветеранів війни м. Київ\,  Пуща Водиця\,  вул. Ф.Максименка\,  26
SUMMARY:Workshop in mobilization and manipulation techniques in classical manual therapy of spine and joints
DESCRIPTION: Invite: physicians of physical and rehabilitation medicine\,  physical therapists\,  neurologists\,  orthopedists-traumatologists\,  rheumatologists\,  therapists\,  pediatricians\,  general practitioners &#8211; family medicine\,  physicians in physical therapy and sports medicine and other specialists interested in this topic. Certificate: the participation guarantees the receipt certificate the number of points in the BPR system\,  according to[..]
URL:http://projects-inn.com/events/maister-klas-praktykum-z-mobilizatsiino-manipuliatsiinykh-tekhnik-klasychnoi-manualnoi-terapii-khrebta-i-suhlobiv/
END:VEVENT
END:VCALENDAR