BEGIN:VCALENDAR
VERSION:2.0
PRODID:-//eventon.com NONSGML v1.0//EN
BEGIN:VEVENT
UID:69e89f6ff1a48
DTSTAMP:20260422T131407
DTSTART:20200602T130000Z
DTEND:20200602T153000Z
LOCATION:Online 
SUMMARY:Webinar "Change of funding in the psychiatric service of ukraine: from concept to threat of system collapse"
DESCRIPTION: report Invite: all those involved in the provision of psychiatric care and mental health care. Certificate: the participation guarantees the receipt certificate the number of points in the BPR system\,  according to the order of the Health Ministry of Ukraine No. 446 of 22.02.2019. Participation is free of charge\,  subject[..]
URL:http://projects-inn.com/events/vebinar-zmina-finansuvannia-v-psykhiatrychnii-sluzhbi-ukrainy-vid-kontseptsii-do-zahrozy-kolapsu-systemy/
END:VEVENT
END:VCALENDAR