BEGIN:VCALENDAR
VERSION:2.0
PRODID:-//eventon.com NONSGML v1.0//EN
BEGIN:VEVENT
UID:69e89f5b104e8
DTSTAMP:20260422T131347
DTSTART:20200917T000000Z
DTEND:20200917T000000Z
LOCATION:Херсон 
SUMMARY:Цикл науково-практичних конференцій «Школа доцільного використання антибіотиків»
DESCRIPTION: Запрошуються: сімейні лікарі\,  терапевти\,  педіатри\,  лікарі амбулаторно-поліклінічної ланки\,  лікарі стаціонарів\,  співробітники профільних кафедр та інші спеціалісти зацікавлені в даній тематиці. Сертифікат: участь гарантує отримання сертифікату кількості балів в системі БПР\,  згідно наказу МОЗ України №446 від 22.02.2019. Участь є безкоштовною за умови обов’язкової реєстрації. Організатори: ГО «Українська асоціація за доцільне[..]
URL:http://projects-inn.com/events/tsykl-naukovo-praktychnykh-konferentsii-shkola-dotsilnoho-vykorystannia-antybiotykiv/
END:VEVENT
END:VCALENDAR