BEGIN:VCALENDAR
VERSION:2.0
PRODID:-//eventon.com NONSGML v1.0//EN
BEGIN:VEVENT
UID:69e8b4d171a45
DTSTAMP:20260422T144521
DTSTART:20200917T000000Z
DTEND:20200917T000000Z
LOCATION:Kherson 
SUMMARY:Series of scientifical and practical conferences «School of appropriate antibiotics use» (Kherson)
DESCRIPTION: Invite: family doctors\,  physicians\,  pediatricians\,  outpatient doctors\,  inpatient doctors\,  staff members of profile departments and other specialists interested in this topic. Certificate: the participation guarantees the receipt certificate the number of points in the BPR system\,  according to the order of the Health Ministry of Ukraine No. 446 of 22.02.2019.[..]
URL:http://projects-inn.com/events/tsykl-naukovo-praktychnykh-konferentsii-shkola-dotsilnoho-vykorystannia-antybiotykiv/
END:VEVENT
END:VCALENDAR