BEGIN:VCALENDAR
VERSION:2.0
PRODID:-//eventon.com NONSGML v1.0//EN
BEGIN:VEVENT
UID:69eb2c1a84d7b
DTSTAMP:20260424T113850
DTSTART:20201223T030000Z
DTEND:20201223T050000Z
TZID:Pacific/Midway
LOCATION:
SUMMARY:ВЕБІНАР «КЛІНІЧНА КАРТИНА ЕПІЛЕПТИЧНИХ НАПАДІВ У ДІТЕЙ (З ВІДЕО ПРЕЗЕНТАЦІЄЮ)»
DESCRIPTION: Звіт Запрошуються: сімейні лікарі\,  терапевти\,  педіатри\,  лікарі амбулаторно-поліклінічної ланки\,  лікарі стаціонарів\,  співробітники профільних кафедр та інші спеціалісти зацікавлені в даній тематиці. Сертифікат: участь гарантує отримання сертифікату кількості балів в системі БПР\,  згідно наказу МОЗ України №446 від 22.02.2019. Участь є безкоштовною за умови обов’язкової реєстрації. Організатори: Українська Протиепілептична Ліга Інститут[..]
URL:http://projects-inn.com/events/%d0%b2%d0%b5%d0%b1%d1%96%d0%bd%d0%b0%d1%80-%d0%ba%d0%bb%d1%96%d0%bd%d1%96%d1%87%d0%bd%d0%b0-%d0%ba%d0%b0%d1%80%d1%82%d0%b8%d0%bd%d0%b0-%d0%b5%d0%bf%d1%96%d0%bb%d0%b5%d0%bf%d1%82%d0%b8%d1%87/
END:VEVENT
END:VCALENDAR