BEGIN:VCALENDAR
VERSION:2.0
PRODID:-//eventon.com NONSGML v1.0//EN
BEGIN:VEVENT
UID:69eb2caa0fc35
DTSTAMP:20260424T114114
DTSTART:20210406T110000Z
DTEND:20210407T105900Z
TZID:Pacific/Midway
LOCATION:Online 
SUMMARY:ОНЛАЙН-КОНФЕРЕНЦІЯ «НА МЕЖІ КОМПЕТЕНЦІЇ ПСИХІАТРІЇ ТА НЕВРОЛОГІЇ. ПСИХІЧНІ РОЗЛАДИ ПРИ ЕПІЛЕПСІЯХ»
DESCRIPTION: Звіт Запрошуються: спеціалісти в галузі психіатрії\,  неврології\,  нейробіології\,  науковці\,  лікарі-психіатри\,  лікарі – неврологи\,  лікарі-дитячі психіатри\,  лікарі дитячі неврологи\,  сімейні лікарі\,  соціальні працівники\,  корекційні педагоги\,  логопеди\,  психологи\,  медичні сестри та інші спеціалісти зацікавлені в даній тематиці. Сертифікат: участь гарантує отримання сертифікату кількості балів в системі БПР\,  згідно наказу МОЗ України №446[..]
URL:http://projects-inn.com/events/%d0%be%d0%bd%d0%bb%d0%b0%d0%b9%d0%bd-%d0%ba%d0%be%d0%bd%d1%84%d0%b5%d1%80%d0%b5%d0%bd%d1%86%d1%96%d1%8f-%d0%bd%d0%b0-%d0%bc%d0%b5%d0%b6%d1%96-%d0%ba%d0%be%d0%bc%d0%bf%d0%b5%d1%82%d0%b5%d0%bd/
END:VEVENT
END:VCALENDAR