BEGIN:VCALENDAR
VERSION:2.0
PRODID:-//eventon.com NONSGML v1.0//EN
BEGIN:VEVENT
UID:69e88b85d30f7
DTSTAMP:20260422T114909
DTSTART:20220303T110000Z
DTEND:20220305T105900Z
TZID:Pacific/Midway
LOCATION:
SUMMARY:Міжнародний науково-практичний симпозіум. "Система орфанної медицини: досвід проблеми та рішення" (ПЕРЕНЕСЕНО)
DESCRIPTION: САЙТ До участі запрошуються:&nbsp;&nbsp;неврологи\,  генетики\,  сімейні лікарі\,  спеціалісти з медичної лабораторної генетики\,  лікарі гематологи\,  педіатри\,  неонатологи\,  лікарі трансплантологи\,  оториноларингологи\,  реабілітологи&nbsp; В програмі конференції (основні теми): &nbsp;-світовий досвід &nbsp;організації медичної допомоги орфанним пацієнтам;&nbsp; &#8211; медична допомога&nbsp;орфанним хворим в контексті реформ у галузі охорони здоров’я ; -діагностика та лікуванні орфанних захворювань в[..]
URL:http://projects-inn.com/events/%d0%bc%d1%96%d0%b6%d0%bd%d0%b0%d1%80%d0%be%d0%b4%d0%bd%d0%b8%d0%b9-%d0%bd%d0%b0%d1%83%d0%ba%d0%be%d0%b2%d0%be-%d0%bf%d1%80%d0%b0%d0%ba%d1%82%d0%b8%d1%87%d0%bd%d0%b8%d0%b9-%d1%81%d0%b8%d0%bc%d0%bf/
END:VEVENT
END:VCALENDAR