BEGIN:VCALENDAR
VERSION:2.0
PRODID:-//eventon.com NONSGML v1.0//EN
BEGIN:VEVENT
UID:69eb2c16d2e41
DTSTAMP:20260424T113846
DTSTART:20220514T110000Z
DTEND:20220517T105900Z
TZID:Pacific/Midway
LOCATION:
SUMMARY:WFNS International Education Course (ПЕРЕНЕСЕНО)
DESCRIPTION: САЙТ Topics: NeurotraumaStrokeNeuro-oncologyVascularSkull BaseFunctionalPediatricPeriphery NervesSpineEducation\,  scientific analysis\,  publications\,  ethics Organizers: World Federation of Neurosurgical Societies Ukrainian Association of Neurosurgeons
URL:http://projects-inn.com/events/wfns-international-education-course-%d0%bf%d0%b5%d1%80%d0%b5%d0%bd%d0%b5%d1%81%d0%b5%d0%bd%d0%be/
END:VEVENT
END:VCALENDAR