BEGIN:VCALENDAR
VERSION:2.0
PRODID:-//eventon.com NONSGML v1.0//EN
BEGIN:VEVENT
UID:69e8b4e129118
DTSTAMP:20260422T144537
DTSTART:20200819T150000Z
DTEND:20200819T180000Z
LOCATION:Online 
SUMMARY:Вебінар «Фармакотерапія шизофренії ІІІ: монотерапія VS політерапія»
DESCRIPTION: Звіт Запрошуються: лікарі-психіатри\,  неврологи\,  дитячі психіатри\,  дитячі неврологи\,  науковці\,  сімейні лікарі\,  організатори охорони здоров&#8217;я\,  соціальні працівники\,  корекційні педагоги\,  логопеди\,  психологи\,  медичні сестри та інші зацікавлені в тематиці спеціалісти. Сертифікат: участь гарантує отримання сертифікату кількості балів в системі БПР\,  згідно наказу МОЗ України №446 від 22.02.2019. Участь є безкоштовною за умови[..]
URL:http://projects-inn.com/events/vebinar-farmakoterapiia-shyzofrenii-iii-monoterapiia-vs-politerapiia-2/
END:VEVENT
END:VCALENDAR