BEGIN:VCALENDAR
VERSION:2.0
PRODID:-//eventon.com NONSGML v1.0//EN
BEGIN:VEVENT
UID:69eb2d4c6ecd2
DTSTAMP:20260424T114356
DTSTART:20200915T150000Z
DTEND:20200915T173000Z
LOCATION:Online 
SUMMARY:ВЕБІНАР УПЕЛ «МОЖЛИВОСТІ ХІРУРГІЧНОГО ЛІКУВАННЯ ФАРМАКОРЕЗИСТЕНТНОЇ ЕПІЛЕПСІЇ»
DESCRIPTION: Звіт Запрошуються:&nbsp;сімейні лікарі\,  терапевти\,  педіатри\,  лікарі амбулаторно-поліклінічної ланки\,  лікарі стаціонарів\,  співробітники профільних кафедр та інші спеціалісти зацікавлені в даній тематиці. Сертифікат: участь гарантує отримання сертифікату кількості балів в системі БПР\,  згідно наказу МОЗ України №446 від 22.02.2019. Участь є безкоштовною за умови обов’язкової реєстрації. Організатори:Українська Протиепілептична ЛігаІнститут неврології\,  психіатрії та[..]
URL:http://projects-inn.com/events/vebinar-upel-mozhlyvosti-khirurhichno/
END:VEVENT
END:VCALENDAR