BEGIN:VCALENDAR
VERSION:2.0
PRODID:-//eventon.com NONSGML v1.0//EN
BEGIN:VEVENT
UID:69e88b751a147
DTSTAMP:20260422T114853
DTSTART:20210304T020000Z
DTEND:20210304T043000Z
TZID:Pacific/Midway
LOCATION:Online 
SUMMARY:Вебінар "СКЛАДНА ДИТИНА: В ПОШУКАХ ДІАГНОЗУ  ТА ТЕРАПІЇ "
DESCRIPTION: Звіт Запрошуються: психологів-практиків\,  психотерапевтів\,  медичних психологів та всіх\,  хто зацікавлений у дистанційному консультуванні. Сертифікат: участь гарантує отримання сертифікату кількості балів в системі БПР\,  згідно наказу МОЗ України №446 від 22.02.2019. Участь є безкоштовною за умови обов’язкової реєстрації. Організатори: Асоціація дитячих неврологів УкраїниДУ «Інститут педіатрії\,  акушерства і гінекології&nbsp; ім. акад. О.М.[..]
URL:http://projects-inn.com/events/vebinar-skladna-dytyna-v-poshukakh-diah-2/
END:VEVENT
END:VCALENDAR