BEGIN:VCALENDAR
VERSION:2.0
PRODID:-//eventon.com NONSGML v1.0//EN
BEGIN:VEVENT
UID:69e89f8aaf6c6
DTSTAMP:20260422T131434
DTSTART:20210610T110000Z
DTEND:20210613T105900Z
TZID:Pacific/Midway
LOCATION:online - offline 
SUMMARY:V науково практична школа з питань аутизму
DESCRIPTION: «Діти\,  підлітки та молоді доросли з розладами аутистичного спектру. Нові виклики та підходи до терапії та реабілітації» Звіт Запрошуються: дитячі психіатри\,  психологи\,  педіатри\,  логопеди\,  які залучені в надання допомоги дітям з розладами аутистичного спектра\,  та інші спеціалісти зацікавлені в даній тематиці. Сертифікат: Участь в конференції гарантує отримання кількості балів (10)[..]
URL:http://projects-inn.com/events/v-naukovo-praktychna-shkola-z-pytan-aut-2/
END:VEVENT
END:VCALENDAR