BEGIN:VCALENDAR
VERSION:2.0
PRODID:-//eventon.com NONSGML v1.0//EN
BEGIN:VEVENT
UID:69e88b7f0a39a
DTSTAMP:20260422T114903
DTSTART:20210523T000000Z
DTEND:20210523T050000Z
TZID:Pacific/Midway
LOCATION:Online 
SUMMARY:Онлайн школа пацієнтів з раком легень
DESCRIPTION: Звіт Організатори:Благодійний фонд Розвитку Інновацій Медицини «РІМОН»ТОВ «Проджектс Інн»
URL:http://projects-inn.com/events/onlayn-shkola-patsiientiv-z-rakom-lehen/
END:VEVENT
END:VCALENDAR