BEGIN:VCALENDAR
VERSION:2.0
PRODID:-//eventon.com NONSGML v1.0//EN
BEGIN:VEVENT
UID:69e88b8100cf1
DTSTAMP:20260422T114905
DTSTART:20210601T110000Z
DTEND:20210602T105900Z
TZID:Pacific/Midway
LOCATION:Online 
SUMMARY:Вебінар «ЧИ ЗМІНИВСЯ ПЕРЕБІГ ТА ЛІКУВАННЯ РОЗСІЯНОГО СКЛЕРОЗУ ПІД ЧАС ПАНДЕМІЇ COVID-19?»
DESCRIPTION: Звіт Запрошуються:&nbsp;лікарі–неврологи\,  психіатри\,  сімейні лікарі\,  докторанти\,  організатори охорони здоров&#8217;я\,  реабілітологи\,  науковці\,  молоді вчені (розроблена спеціальна програма)\,  аспіранти\,  інші зацікавлені спеціалісти. Організатори: Всесвітній конгрес Дебати в Неврології (World Congresson Controversies in Neurology ДУ «Інститут неврології\,  психіатрії&nbsp; та наркології&nbsp; НАМН України” Ужгородський Національний Університет\,  Українська асоціація нейропсихофармакології Благодійний Фонд Розвитку Інновацій Медицини[..]
URL:http://projects-inn.com/events/vebinar-chy-zminyvsia-perebih-ta-likuv/
END:VEVENT
END:VCALENDAR