BEGIN:VCALENDAR
VERSION:2.0
PRODID:-//eventon.com NONSGML v1.0//EN
BEGIN:VEVENT
UID:69e8b4cba896f
DTSTAMP:20260422T144515
DTSTART:20211006T030000Z
DTEND:20211006T070000Z
TZID:Pacific/Midway
LOCATION:Online 
SUMMARY:Вебінар УПЕЛ «Розлади аутистичного спектру та епілепсія»
DESCRIPTION: Звіт Запрошуються:&nbsp;сімейні лікарі\,  терапевти\,  педіатри\,  лікарі амбулаторно-поліклінічної ланки\,  лікарі стаціонарів\,  співробітники профільних кафедр та інші спеціалісти зацікавлені в даній тематиці. Сертифікат: участь гарантує отримання сертифікату кількості балів в системі БПР\,  згідно наказу МОЗ України №446 від 22.02.2019. Участь є безкоштовною за умови обов’язкової реєстрації. Організатори: ДЕРЖАВНА УСТАНОВА&#8220;Інститут неврології\,  психіатрії та[..]
URL:http://projects-inn.com/events/vebinar-upel-rozlady-autystychnoho-s/
END:VEVENT
END:VCALENDAR